BEGIN:VCALENDAR
VERSION:2.0
PRODID:-//wp-events-plugin.com//7.2.2.1//EN
TZID:America/New_York
X-WR-TIMEZONE:America/New_York
BEGIN:VEVENT
UID:232@razomforukraine.org
DTSTART;TZID=America/New_York:20250605T190000
DTEND;TZID=America/New_York:20250605T200000
DTSTAMP:20250604T164606Z
URL:https://www.razomforukraine.org/events/a-time-for-fun-a-concert-cabare
 t/
SUMMARY:Vira + Friends Presents: a concert/cabaret
DESCRIPTION:When?\n\nThursday\, June 5 · 7 - 8pm EDT\n\nWhere?\nFirst Chur
 ch in Cambridge\n11 Garden Street Cambridge\, MA 02138\n\nAbout this event
 \n\n\nJoin contralto Vira Slywotzky and pianist David Sytkowski for an eng
 aging and entertaining evening of classical and popular song. Leave your t
 roubles at the door and have some fun with acclaimed duo Slywotzky and Syt
 kowski as they perform opera arias and show tunes\, classical and popular 
 song.\n\n\n\nContralto Vira Slywotzky has performed principal roles with
  Seattle Opera\, Chautauqua Opera\, Chelsea Opera\, Center for Contemporar
 y Opera\, Sarasota Opera\, Boston Midsummer Opera and Victor Herbert Renai
 ssance Project - LIVE! She has sung concerts\, recitals and cabarets in Ne
 w York City venues from The Duplex to Weill Hall at Carnegie Hall and on t
 our all over the United States. Internationally Slywotzky has been heard i
 n Canada\, France\, Hungary\, Sweden and Wales.\n\nPianist David Sytkowsk
 i is a Visiting Artist in Residence at Bard College and the Bard College 
 Conservatory of Music\, where he is Director of Music for Opera Workshop\,
  leads the Musical Theatre Performance Workshop\, coaches singers and teac
 hes private piano.\n\nCheck out Vira performing Danse Macabre.\n\nCkick He
 re For Tickets\n\nQuestions? hello@viraandfriends.org
ATTACH;FMTTYPE=image/jpeg:https://www.razomforukraine.org/wp-content/uploa
 ds/2025/05/Events-tab-30-scaled.png
CATEGORIES:Music
LOCATION:First Church in Cambridge\, 11 Garden Street\, Cambridge\, MA\, 02
 138\, United States
X-APPLE-STRUCTURED-LOCATION;VALUE=URI;X-ADDRESS=11 Garden Street\, Cambridg
 e\, MA\, 02138\, United States;X-APPLE-RADIUS=100;X-TITLE=First Church in 
 Cambridge:geo:0,0
END:VEVENT
BEGIN:VTIMEZONE
TZID:America/New_York
X-LIC-LOCATION:America/New_York
BEGIN:DAYLIGHT
DTSTART:20250309T030000
TZOFFSETFROM:-0500
TZOFFSETTO:-0400
TZNAME:EDT
END:DAYLIGHT
END:VTIMEZONE
END:VCALENDAR