BEGIN:VCALENDAR
VERSION:2.0
PRODID:-//wp-events-plugin.com//7.2.2.1//EN
TZID:America/New_York
X-WR-TIMEZONE:America/New_York
BEGIN:VEVENT
UID:72@razomforukraine.org
DTSTART;TZID=America/New_York:20230223T190000
DTEND;TZID=America/New_York:20230223T210000
DTSTAMP:20230215T172415Z
URL:https://www.razomforukraine.org/events/taste-of-ukraine-a-gourmet-dini
 ng-experience/
SUMMARY:Taste of Ukraine: A gourmet dining experience
DESCRIPTION:Join us for a pop-up dinner event to celebrate Ukraine's rich c
 ulinary heritage and to support Ukraine as the country enters the second y
 ear of a brutal war. This event is a collaboration between three New York 
 City organizations: Eat Offbeat\, Razom for Ukraine\, and the Ukrainian Ha
 bitat Fund.\n\n\nPlease buy your ticket  here\n\n\n\nWhat to Expect:\nEve
 nt participants will enjoy a five course gourmet meal cooked by Ukrainian 
 women refugees who are now based in New York City. A wine pairing is avail
 able at an additional cost.\n\nAs Ukraine enters the second year of war\,
  this evening will give participants a chance to be together\, eat delic
 ious food\, and learn more about Ukraine and its rich culinary and cultura
 l history.\n\nDuring the meal\, famous Ukrainian anthropologist and food w
 riter\, Marianna Dushar (known to many as Pani Stefa) will speak about th
 e dishes and Ukraine's unique culinary history. You'll also hear some trad
 itional Ukrainian music performed by Andriy Milavsky.\n\nProceeds from the
  event\, and any additional donations\, will go to support Razom for Ukra
 ine and the Ukrainian Habitat Fund's work supporting Ukrainians in need.
  Thank you for your support and generosity and for standing with Ukraine.\
 n\nHow about lunch?\nIf you can't join us for dinner\, take-out lunch will
  be available for pick up from Eat Offbeat with all proceeds going to supp
 ort Razom for Ukraine and the Ukrainian Habitat Fund.\n\nAbout the organiz
 ations\n\nEat Offbeat is a team of refugees and immigrants with an unparal
 leled passion for the craft of cooking. The company offers catering in the
  NY area\, ships provisions and gifts nationwide\, and serves its chefs’
  authentic cuisines out of two locations in NYC (at Chelsea Market and on
  550 Madison Ave.). You can find them @eatoffbeat and eatoffbeat.com\nRa
 zom for Ukraine was founded in 2014 and is focused on unlocking Ukraine’
 s potential and building a more prosperous\, democratic nation. Razom is 
 providing critical humanitarian war relief and recovery to address the mos
 t urgent needs as they evolve. You can find them @razom.for.ukraine and r
 azomforukraine.org\n\n\nThe Ukrainian Habitat Fund was founded in 2022 to 
 provide New York City housing and support services for Ukrainians coming t
 o the United States seeking refuge due to the war. You can find them @ukr
 ainianhabitatfund and ukrainianhabitatfund.org\n\n\n\n
ATTACH;FMTTYPE=image/jpeg:https://www.razomforukraine.org/wp-content/uploa
 ds/2023/02/60BEF3D0-A61C-4CDA-B63A-D8CB599EBDBB.jpeg
CATEGORIES:Food &amp; Drink,Fundraiser,Music
LOCATION:Eat OffBeat – New York\, NY\, 75 9th Avenue\, New York\, NY\, 10
 011\, United States
X-APPLE-STRUCTURED-LOCATION;VALUE=URI;X-ADDRESS=75 9th Avenue\, New York\, 
 NY\, 10011\, United States;X-APPLE-RADIUS=100;X-TITLE=Eat OffBeat – New 
 York\, NY:geo:0,0
END:VEVENT
BEGIN:VTIMEZONE
TZID:America/New_York
X-LIC-LOCATION:America/New_York
BEGIN:STANDARD
DTSTART:20221106T010000
TZOFFSETFROM:-0400
TZOFFSETTO:-0500
TZNAME:EST
END:STANDARD
END:VTIMEZONE
END:VCALENDAR