BEGIN:VCALENDAR
VERSION:2.0
PRODID:-//wp-events-plugin.com//7.2.2.1//EN
TZID:America/New_York
X-WR-TIMEZONE:America/New_York
BEGIN:VEVENT
UID:46@razomforukraine.org
DTSTART;TZID=America/New_York:20230127T150000
DTEND;TZID=America/New_York:20230127T200000
DTSTAMP:20230120T151838Z
URL:https://www.razomforukraine.org/events/ukrainian-response-initiative-a
 id-distribution-2023-01-27/
SUMMARY:Ukrainian Response Initiative – Aid Distribution
DESCRIPTION:Razom Ukrainian Response Initiative Distribution Days\n\nWe inv
 ite displaced Ukrainians who came to NYC because of the war to attend our 
 monthly distribution days.\nYou can receive produce\, hygienic items\, and
  clothes.\nOn Saturday\, there will be free TB testing\, flu shots\, COVID
  Tests and vaccines available.\nAddress: 359 Broome Street New York\, NY 1
 0013 at Holy Trinity Ukrainian Orthodox Church.\nWe encourage all guests t
 o wear masks.\n\nРазом Ініціатива Допомоги Укра
 їнцям у м. Нью-Йорк\nЗапрошуємо вимушеноп
 ереміщених Українців\, які опинилися у Н
 ью-Йорку через війну\, на нашу щомісячну 
 подію зі гуманітарної допомоги.\nВи змож
 ете отримати продукти харчування\, засоб
 и гігієни\, одяг.\nУ суботу пропонуємо без
 коштовне тестування на туберкульоз\, вак
 цинація від грипу\, тест та вакцинація на
  Ковід.\nЗаохочуємо всіх відвідувачів бу
 ти у масках.\n\nThis Event on Facebook
ATTACH;FMTTYPE=image/jpeg:https://www.razomforukraine.org/wp-content/uploa
 ds/2023/01/Events_Ukraine-Response-Initiative-Humanitarian-Aid-Distributio
 n-Days.jpeg
CATEGORIES:Aid Distribution
LOCATION:Holy Trinity Ukrainian Orthodox Church – New York\, NY\, 359 Bro
 ome Street\, New York\, NY\, 10013\, United States
X-APPLE-STRUCTURED-LOCATION;VALUE=URI;X-ADDRESS=359 Broome Street\, New Yor
 k\, NY\, 10013\, United States;X-APPLE-RADIUS=100;X-TITLE=Holy Trinity Ukr
 ainian Orthodox Church – New York\, NY:geo:0,0
END:VEVENT
BEGIN:VTIMEZONE
TZID:America/New_York
X-LIC-LOCATION:America/New_York
BEGIN:STANDARD
DTSTART:20221106T010000
TZOFFSETFROM:-0400
TZOFFSETTO:-0500
TZNAME:EST
END:STANDARD
END:VTIMEZONE
END:VCALENDAR